BEGIN:VCALENDAR
VERSION:2.0
PRODID:-//KABE Husbilsklubb - ECPv6.15.20//NONSGML v1.0//EN
CALSCALE:GREGORIAN
METHOD:PUBLISH
X-ORIGINAL-URL:https://kabe-husbilsklubb.se
X-WR-CALDESC:Händelser för KABE Husbilsklubb
REFRESH-INTERVAL;VALUE=DURATION:PT1H
X-Robots-Tag:noindex
X-PUBLISHED-TTL:PT1H
BEGIN:VTIMEZONE
TZID:Europe/Stockholm
BEGIN:DAYLIGHT
TZOFFSETFROM:+0100
TZOFFSETTO:+0200
TZNAME:CEST
DTSTART:20240331T010000
END:DAYLIGHT
BEGIN:STANDARD
TZOFFSETFROM:+0200
TZOFFSETTO:+0100
TZNAME:CET
DTSTART:20241027T010000
END:STANDARD
BEGIN:DAYLIGHT
TZOFFSETFROM:+0100
TZOFFSETTO:+0200
TZNAME:CEST
DTSTART:20250330T010000
END:DAYLIGHT
BEGIN:STANDARD
TZOFFSETFROM:+0200
TZOFFSETTO:+0100
TZNAME:CET
DTSTART:20251026T010000
END:STANDARD
BEGIN:DAYLIGHT
TZOFFSETFROM:+0100
TZOFFSETTO:+0200
TZNAME:CEST
DTSTART:20260329T010000
END:DAYLIGHT
BEGIN:STANDARD
TZOFFSETFROM:+0200
TZOFFSETTO:+0100
TZNAME:CET
DTSTART:20261025T010000
END:STANDARD
END:VTIMEZONE
BEGIN:VEVENT
DTSTART;TZID=Europe/Stockholm:20250910T090000
DTEND;TZID=Europe/Stockholm:20250914T170000
DTSTAMP:20260421T120744
CREATED:20250222T080009Z
LAST-MODIFIED:20250521T170628Z
UID:11129-1757494800-1757869200@kabe-husbilsklubb.se
SUMMARY:Inbjudan att köpa biljett till KABE-byn på Elmia Husvagn Husbil 10-14 september 2025
DESCRIPTION:Här\, via denna länk\, kan du läsa inbjudan till att beställa biljett till vår KABE-by på Elmia Husvagn Husbil den 10-14 september 2025. \nDet är viktigt att du INTE försöker att beställa biljetten före kl. 09.00 den första mars 2025. Gör du det\, i tron att du skall komma före andra\, kommer din beställning att bortsorteras. Så var noga med detta. Ingen tjuvstart! \nDet skall framgå tydligt av inbjudan vad som gäller för beställning och betalning av biljett till KABE-byn. Det finns också omnämnt om du inte får någon biljett till KABE-byn hur du kan köpa en biljett till område 1 via Elmia/Tickster. \nFör övrigt är det ”Same Procedure as last Year” vad gäller inkörning\, uppställning m.m.
URL:https://kabe-husbilsklubb.se/event/inbjudan-att-kopa-biljett-till-kabe-byn-pa-elmia-husvagn-husbil-10-14-september-2025/
LOCATION:Elmia Mässvägen 12 554 54 JÖNKÖPING\, Mässvägen 12\, Jönköping\, Jönköpings län\, 554 54\, Sverige
CATEGORIES:Klubbträff
ORGANIZER;CN="KABE Husbilsklubb":MAILTO:janogunnel@live.se
END:VEVENT
BEGIN:VEVENT
DTSTART;TZID=Europe/Stockholm:20250919T140000
DTEND;TZID=Europe/Stockholm:20250921T120000
DTSTAMP:20260421T120744
CREATED:20250707T191622Z
LAST-MODIFIED:20250908T124814Z
UID:11545-1758290400-1758456000@kabe-husbilsklubb.se
SUMMARY:Klubbträff med Ålagille i Österlen\, Degeberga 19-21 september 2025
DESCRIPTION:Du inbjuds nu att delta på ett Ålagille som hålls på Skogsdala Gård i Degeberga\, ca 2 mil från Åhus. \nPris för 2 i cockpit är 2 200 kr. Pris för 1 i cockpit är 1 700 kr. Du kommer till inbjudan och anmälan via denna länk >>. \n \nMycket välkommen!
URL:https://kabe-husbilsklubb.se/event/klubbtraff-med-alagille-i-osterlen-degeberga-19-21-september-2025/
LOCATION:Skogsdala Gård\, Rörum 232\, Simrishamn\, Skåne\, 272 95\, Sweden
CATEGORIES:Klubbträff
END:VEVENT
END:VCALENDAR