BEGIN:VCALENDAR
VERSION:2.0
PRODID:-//KABE Husbilsklubb - ECPv6.15.20//NONSGML v1.0//EN
CALSCALE:GREGORIAN
METHOD:PUBLISH
X-WR-CALNAME:KABE Husbilsklubb
X-ORIGINAL-URL:https://kabe-husbilsklubb.se
X-WR-CALDESC:Händelser för KABE Husbilsklubb
REFRESH-INTERVAL;VALUE=DURATION:PT1H
X-Robots-Tag:noindex
X-PUBLISHED-TTL:PT1H
BEGIN:VTIMEZONE
TZID:Europe/Stockholm
BEGIN:DAYLIGHT
TZOFFSETFROM:+0100
TZOFFSETTO:+0200
TZNAME:CEST
DTSTART:20240331T010000
END:DAYLIGHT
BEGIN:STANDARD
TZOFFSETFROM:+0200
TZOFFSETTO:+0100
TZNAME:CET
DTSTART:20241027T010000
END:STANDARD
BEGIN:DAYLIGHT
TZOFFSETFROM:+0100
TZOFFSETTO:+0200
TZNAME:CEST
DTSTART:20250330T010000
END:DAYLIGHT
BEGIN:STANDARD
TZOFFSETFROM:+0200
TZOFFSETTO:+0100
TZNAME:CET
DTSTART:20251026T010000
END:STANDARD
BEGIN:DAYLIGHT
TZOFFSETFROM:+0100
TZOFFSETTO:+0200
TZNAME:CEST
DTSTART:20260329T010000
END:DAYLIGHT
BEGIN:STANDARD
TZOFFSETFROM:+0200
TZOFFSETTO:+0100
TZNAME:CET
DTSTART:20261025T010000
END:STANDARD
END:VTIMEZONE
BEGIN:VEVENT
DTSTART;TZID=Europe/Stockholm:20250815T150000
DTEND;TZID=Europe/Stockholm:20250817T120000
DTSTAMP:20260421T103151
CREATED:20250521T164230Z
LAST-MODIFIED:20250521T171655Z
UID:11409-1755270000-1755432000@kabe-husbilsklubb.se
SUMMARY:Inbjudan till klubbträff på vingård utanför Kivik 15 - 17 augusti 2025
DESCRIPTION:Du bjuds in att anmäla ditt intresse för klubbträffen via denna länk>>.
URL:https://kabe-husbilsklubb.se/event/inbjudan-till-klubbtraff-pa-vingard-utanfor-kivik-15-17-augusti-2025/
LOCATION:Skepparps Vingård\, Verkaåvägen 56\, Kivik\, Skåne\, 277 37\, Sweden
CATEGORIES:Klubbträff
ORGANIZER;CN="KABE Husbilsklubb - G%C3%B6taland":MAILTO:kenth.jo@telia.com
END:VEVENT
BEGIN:VEVENT
DTSTART;TZID=Europe/Stockholm:20250822T120000
DTEND;TZID=Europe/Stockholm:20250824T120000
DTSTAMP:20260421T103151
CREATED:20250609T121559Z
LAST-MODIFIED:20250624T122955Z
UID:11467-1755864000-1756036800@kabe-husbilsklubb.se
SUMMARY:Klubbmästerskap i Bangolf på Westerqwarn 22-24 augusti 2025
DESCRIPTION:Slå ett slag för att komma på prispallen!\nDu kommer till inbjudan via denna länk>>\nAnmälan till beställning av biljett gör du via denna mejllänk\, mejl . \nDu bjuds nu in till en KABE Husbilsklubb klubbträff på Westerqwarn dagarna 22-24 augusti 2025. Det är i dagsläget förbokat för 12 bilar med inkoppling för el.\nAll information om träffen får du via länken ovan. Pris för deltagande är 1.100 kr med kapten och andrepilot i cockpit och 800 kr med enbart kapten i cockpit. \nTräffen arrangeras av vår medlem 725 Christer & Marie Lundholm\, Eskilstuna. De dyker upp senare i höst med en ytterligare aktivitet som inte är svårsmält!
URL:https://kabe-husbilsklubb.se/event/klubbmasterskap-i-bangolf-pa-westerqwarn-22-24-augusti-2025/
LOCATION:Westerqwarns ställplats\, Västerkvarnsvägen 4\, Kolbäck\, 734 93
CATEGORIES:Klubbträff
ORGANIZER;CN="KABE Husbilsklubb - Svealand":MAILTO:svealand@kabehusbilsklubb.se
END:VEVENT
END:VCALENDAR