BEGIN:VCALENDAR
VERSION:2.0
PRODID:-//KABE Husbilsklubb - ECPv6.15.20//NONSGML v1.0//EN
CALSCALE:GREGORIAN
METHOD:PUBLISH
X-WR-CALNAME:KABE Husbilsklubb
X-ORIGINAL-URL:https://kabe-husbilsklubb.se
X-WR-CALDESC:Händelser för KABE Husbilsklubb
REFRESH-INTERVAL;VALUE=DURATION:PT1H
X-Robots-Tag:noindex
X-PUBLISHED-TTL:PT1H
BEGIN:VTIMEZONE
TZID:Europe/Stockholm
BEGIN:DAYLIGHT
TZOFFSETFROM:+0100
TZOFFSETTO:+0200
TZNAME:CEST
DTSTART:20240331T010000
END:DAYLIGHT
BEGIN:STANDARD
TZOFFSETFROM:+0200
TZOFFSETTO:+0100
TZNAME:CET
DTSTART:20241027T010000
END:STANDARD
BEGIN:DAYLIGHT
TZOFFSETFROM:+0100
TZOFFSETTO:+0200
TZNAME:CEST
DTSTART:20250330T010000
END:DAYLIGHT
BEGIN:STANDARD
TZOFFSETFROM:+0200
TZOFFSETTO:+0100
TZNAME:CET
DTSTART:20251026T010000
END:STANDARD
BEGIN:DAYLIGHT
TZOFFSETFROM:+0100
TZOFFSETTO:+0200
TZNAME:CEST
DTSTART:20260329T010000
END:DAYLIGHT
BEGIN:STANDARD
TZOFFSETFROM:+0200
TZOFFSETTO:+0100
TZNAME:CET
DTSTART:20261025T010000
END:STANDARD
END:VTIMEZONE
BEGIN:VEVENT
DTSTART;TZID=Europe/Stockholm:20251129T130000
DTEND;TZID=Europe/Stockholm:20251130T120000
DTSTAMP:20260420T162255
CREATED:20250924T201531Z
LAST-MODIFIED:20250924T203011Z
UID:11651-1764421200-1764504000@kabe-husbilsklubb.se
SUMMARY:Klubbträff med Julbord på Eskilstuna Golfklubb lördag 29 november 2025
DESCRIPTION:Årets sista klubbträff går i gastronomins tecken! \nLördagen den 29 november är du välkommen till Julbord på Eskilstuna Golfklubb. \nDu kan läsa inbjudan via denna länk och beställa plats. 15 ställplatser med el för husbil. Utöver detta finns det också 6 platser till julbordet för dig som kommer med personbil. Några av er har kanske redan vinterställt husbilen? Vi tänker på dig också.\n \nMejllänken i inbjudan ser ut så här när du klickar på länken.\n \n  \n  \n  \n  \n  \n  \n  \n  \n  \n  \n  \n  \n  \nDenna klubbträff arrangeras av 725 Marie och Christer Lundholm. För frågor ring till 070-316 35 59.
URL:https://kabe-husbilsklubb.se/event/klubbtraff-med-julbord-pa-eskilstuna-golfklubb-lordag-29-november-2025/
LOCATION:Eskilstuna Golfklubb\, Römossevägen 8\, Eskilstuna\, 63502\, Sweden
END:VEVENT
END:VCALENDAR