BEGIN:VCALENDAR
VERSION:2.0
PRODID:-//KABE Husbilsklubb - ECPv6.15.20//NONSGML v1.0//EN
CALSCALE:GREGORIAN
METHOD:PUBLISH
X-WR-CALNAME:KABE Husbilsklubb
X-ORIGINAL-URL:https://kabe-husbilsklubb.se
X-WR-CALDESC:Händelser för KABE Husbilsklubb
REFRESH-INTERVAL;VALUE=DURATION:PT1H
X-Robots-Tag:noindex
X-PUBLISHED-TTL:PT1H
BEGIN:VTIMEZONE
TZID:Europe/Stockholm
BEGIN:DAYLIGHT
TZOFFSETFROM:+0100
TZOFFSETTO:+0200
TZNAME:CEST
DTSTART:20230326T010000
END:DAYLIGHT
BEGIN:STANDARD
TZOFFSETFROM:+0200
TZOFFSETTO:+0100
TZNAME:CET
DTSTART:20231029T010000
END:STANDARD
BEGIN:DAYLIGHT
TZOFFSETFROM:+0100
TZOFFSETTO:+0200
TZNAME:CEST
DTSTART:20240331T010000
END:DAYLIGHT
BEGIN:STANDARD
TZOFFSETFROM:+0200
TZOFFSETTO:+0100
TZNAME:CET
DTSTART:20241027T010000
END:STANDARD
BEGIN:DAYLIGHT
TZOFFSETFROM:+0100
TZOFFSETTO:+0200
TZNAME:CEST
DTSTART:20250330T010000
END:DAYLIGHT
BEGIN:STANDARD
TZOFFSETFROM:+0200
TZOFFSETTO:+0100
TZNAME:CET
DTSTART:20251026T010000
END:STANDARD
END:VTIMEZONE
BEGIN:VEVENT
DTSTART;TZID=Europe/Stockholm:20240911T100000
DTEND;TZID=Europe/Stockholm:20240911T100000
DTSTAMP:20260423T031657
CREATED:20240309T184529Z
LAST-MODIFIED:20240312T141922Z
UID:10758-1726048800-1726048800@kabe-husbilsklubb.se
SUMMARY:Biljetter till Elmia Husvagn Husbil 11-15 september 2024
DESCRIPTION:Biljetter till Elmia är stoppade nu. 2024-02-12 kl.15.00 \nIdag 12/3 har ny information från Caravan Club via KABE AB nått oss som tidigare varit obekant. Tyvärr är det information som menligt påverkar vår ställplats. Antalet platser har reducerats och tält får inte förekomma. Denna information har Caravan Club som arrangör undlåtit att meddela oss! \nHär kommer löpande information om Elmiamässan att finnas att läsa. Först nu gäller det om biljett till ställplats i vår KABE-by på område 1\, yta 900. Vi har 45 biljetter/ställplatser till vårt förfogande. Förra året lyckades vi få köpa in de 15 biljetter som bilorganisationen M inte köpte. Så ser det inte ut i år. Nu är vi tillbaka till 45 biljetter! En fylligare inbjudan kan du läsa här>>. \nBiljettförsäljningen startar måndag morgon 11/3 kl. 09.00. Då kommer två QR-koder dyka upp här istället för de två dummies jag lagt in här under. Den ena QR-koden gäller ställplats utan el och den andra med el. Pris 1.650 kr resp. 2.300 kr.\n \nDu som köpt och betalat biljett kommer fysiskt att få hem den via Postnord tillsammans med en passersedel att ha längst fram på instrumentbrädan vid inpasseringen till mässområdet. Utskicket sker i slutet av augusti. \nLöpande kommer sedan ny information kring mässan dyka upp här och på vår Facebooksida. Återigen\, har du inte anslutit dig till vår FB-sida så gör det nu.
URL:https://kabe-husbilsklubb.se/event/biljetter-till-elmia-husvagn-husbil-11-15-september-2024/
LOCATION:Elmia Mässvägen 12 554 54 JÖNKÖPING\, Mässvägen 12\, Jönköping\, Jönköpings län\, 554 54\, Sverige
CATEGORIES:Klubbträff
ORGANIZER;CN="KABE Husbilsklubb":MAILTO:janogunnel@live.se
END:VEVENT
END:VCALENDAR