BEGIN:VCALENDAR
VERSION:2.0
PRODID:-//KABE Husbilsklubb - ECPv6.15.20//NONSGML v1.0//EN
CALSCALE:GREGORIAN
METHOD:PUBLISH
X-ORIGINAL-URL:https://kabe-husbilsklubb.se
X-WR-CALDESC:Händelser för KABE Husbilsklubb
REFRESH-INTERVAL;VALUE=DURATION:PT1H
X-Robots-Tag:noindex
X-PUBLISHED-TTL:PT1H
BEGIN:VTIMEZONE
TZID:Europe/Stockholm
BEGIN:DAYLIGHT
TZOFFSETFROM:+0100
TZOFFSETTO:+0200
TZNAME:CEST
DTSTART:20230326T010000
END:DAYLIGHT
BEGIN:STANDARD
TZOFFSETFROM:+0200
TZOFFSETTO:+0100
TZNAME:CET
DTSTART:20231029T010000
END:STANDARD
BEGIN:DAYLIGHT
TZOFFSETFROM:+0100
TZOFFSETTO:+0200
TZNAME:CEST
DTSTART:20240331T010000
END:DAYLIGHT
BEGIN:STANDARD
TZOFFSETFROM:+0200
TZOFFSETTO:+0100
TZNAME:CET
DTSTART:20241027T010000
END:STANDARD
BEGIN:DAYLIGHT
TZOFFSETFROM:+0100
TZOFFSETTO:+0200
TZNAME:CEST
DTSTART:20250330T010000
END:DAYLIGHT
BEGIN:STANDARD
TZOFFSETFROM:+0200
TZOFFSETTO:+0100
TZNAME:CET
DTSTART:20251026T010000
END:STANDARD
END:VTIMEZONE
BEGIN:VEVENT
DTSTART;TZID=Europe/Stockholm:20240211T090000
DTEND;TZID=Europe/Stockholm:20240228T235900
DTSTAMP:20260423T132224
CREATED:20240211T080042Z
LAST-MODIFIED:20240211T084431Z
UID:10721-1707642000-1709164740@kabe-husbilsklubb.se
SUMMARY:Anmälningsformulär till Klubbträff på Dalhalla den 28 juli 2024
DESCRIPTION:Här finns nu\, söndag 11 februari kl. 09.00\, anmälningsformuläret till Klubbträffen med DIGGILO på Dalhalla den 28 juli. Du klickar på länken till formuläret och trycker sedan på ”Skicka anmälan” längst ner i formuläret. Själva inbjudan finner du här om du inte redan läst den. \nOBSERVERA! Just nu fungerar inte SKICKA KNAPPEN så du får ta ett foto på anmälan och mejla det till svealand@kabehusbilsklubb.se \nDu som blir tilldelat plats kommer att få ett mejl med en QR-kod för inbetalning av deltagaravgiften. Sker inte inbetalning omgående efter du fått mejlet kommer platsen att gå över till reservlistan. \nFrågor om Klubbträffen besvaras av Göte Jansson(592) på 0706–292922(592).
URL:https://kabe-husbilsklubb.se/event/anmalningsformular-till-klubbtraff-pa-dalhalla-den-28-juli-2024/
CATEGORIES:Klubbträff
END:VEVENT
END:VCALENDAR