BEGIN:VCALENDAR
VERSION:2.0
PRODID:-//KABE Husbilsklubb - ECPv6.15.20//NONSGML v1.0//EN
CALSCALE:GREGORIAN
METHOD:PUBLISH
X-ORIGINAL-URL:https://kabe-husbilsklubb.se
X-WR-CALDESC:Händelser för KABE Husbilsklubb
REFRESH-INTERVAL;VALUE=DURATION:PT1H
X-Robots-Tag:noindex
X-PUBLISHED-TTL:PT1H
BEGIN:VTIMEZONE
TZID:Europe/Stockholm
BEGIN:DAYLIGHT
TZOFFSETFROM:+0100
TZOFFSETTO:+0200
TZNAME:CEST
DTSTART:20220327T010000
END:DAYLIGHT
BEGIN:STANDARD
TZOFFSETFROM:+0200
TZOFFSETTO:+0100
TZNAME:CET
DTSTART:20221030T010000
END:STANDARD
BEGIN:DAYLIGHT
TZOFFSETFROM:+0100
TZOFFSETTO:+0200
TZNAME:CEST
DTSTART:20230326T010000
END:DAYLIGHT
BEGIN:STANDARD
TZOFFSETFROM:+0200
TZOFFSETTO:+0100
TZNAME:CET
DTSTART:20231029T010000
END:STANDARD
BEGIN:DAYLIGHT
TZOFFSETFROM:+0100
TZOFFSETTO:+0200
TZNAME:CEST
DTSTART:20240331T010000
END:DAYLIGHT
BEGIN:STANDARD
TZOFFSETFROM:+0200
TZOFFSETTO:+0100
TZNAME:CET
DTSTART:20241027T010000
END:STANDARD
END:VTIMEZONE
BEGIN:VEVENT
DTSTART;TZID=Europe/Stockholm:20230825T140000
DTEND;TZID=Europe/Stockholm:20230827T140000
DTSTAMP:20260423T214523
CREATED:20230715T084433Z
LAST-MODIFIED:20230808T153125Z
UID:10544-1692972000-1693144800@kabe-husbilsklubb.se
SUMMARY:FULLTECKNAD 230808! - Klubbträff 25 - 27 augusti i Westerqwarn med Golf och en Magisk natt
DESCRIPTION:Vår Mötessamordnare i Svealand\, Jan Backström med hustru Gunnel\, slår till igen med en klubbträff i Westerqwarn 25 – 27 augusti. Du har all information om aktiviteten via länken här\, Westerqvarn Golf 25-27 aug 2023 ver.2. \nAnmälan och samtidig betalning gör du enklast med Swish QR-koden i dokumentet.\nEfter 8 augusti kommer du få en deltagarlista översänd till dig som bekräftelse på ditt deltagande.
URL:https://kabe-husbilsklubb.se/event/klubbtraff-25-27-augusti-i-westerqwarn-med-golf-och-en-magisk-natt/
LOCATION:Westerqwarns ställplats\, Västerkvarnsvägen 4\, Kolbäck\, 734 93
CATEGORIES:Klubbträff
ORGANIZER;CN="KABE Husbilsklubb - Svealand":MAILTO:svealand@kabehusbilsklubb.se
END:VEVENT
END:VCALENDAR