BEGIN:VCALENDAR
VERSION:2.0
PRODID:-//KABE Husbilsklubb - ECPv6.15.20//NONSGML v1.0//EN
CALSCALE:GREGORIAN
METHOD:PUBLISH
X-ORIGINAL-URL:https://kabe-husbilsklubb.se
X-WR-CALDESC:Händelser för KABE Husbilsklubb
REFRESH-INTERVAL;VALUE=DURATION:PT1H
X-Robots-Tag:noindex
X-PUBLISHED-TTL:PT1H
BEGIN:VTIMEZONE
TZID:Europe/Stockholm
BEGIN:DAYLIGHT
TZOFFSETFROM:+0100
TZOFFSETTO:+0200
TZNAME:CEST
DTSTART:20220327T010000
END:DAYLIGHT
BEGIN:STANDARD
TZOFFSETFROM:+0200
TZOFFSETTO:+0100
TZNAME:CET
DTSTART:20221030T010000
END:STANDARD
BEGIN:DAYLIGHT
TZOFFSETFROM:+0100
TZOFFSETTO:+0200
TZNAME:CEST
DTSTART:20230326T010000
END:DAYLIGHT
BEGIN:STANDARD
TZOFFSETFROM:+0200
TZOFFSETTO:+0100
TZNAME:CET
DTSTART:20231029T010000
END:STANDARD
BEGIN:DAYLIGHT
TZOFFSETFROM:+0100
TZOFFSETTO:+0200
TZNAME:CEST
DTSTART:20240331T010000
END:DAYLIGHT
BEGIN:STANDARD
TZOFFSETFROM:+0200
TZOFFSETTO:+0100
TZNAME:CET
DTSTART:20241027T010000
END:STANDARD
END:VTIMEZONE
BEGIN:VEVENT
DTSTART;TZID=Europe/Stockholm:20230609T110000
DTEND;TZID=Europe/Stockholm:20230611T120000
DTSTAMP:20260424T003701
CREATED:20230326T134755Z
LAST-MODIFIED:20230326T150249Z
UID:10187-1686308400-1686484800@kabe-husbilsklubb.se
SUMMARY:Nostalgifestivalen i Vårgårda\, Tånga Heds Camping 9-11 juni 2023
DESCRIPTION:OBSERVERA: Biljetter kan tidigast köpas från lördag 1 april kl. 09.00. Detta för att alla skall få tid att läsa informationen. \nHär finns inbjudan till festivalen med information\,\nInbjudan klubbträff Nostalgifestivalen Vårgårda 9-11 juni 2023 \nI inbjudan finns QR-kod för betalning. Skriv in ditt medlemsnummer och skriv JA om du behöver särskild kost. Meddela detta också i mejl till Kenth Johansson\, Mötessamordnare Västland. \nKenth & Majvor hälsar er välkomna!
URL:https://kabe-husbilsklubb.se/event/nostalgifestivalen-i-vargarda-tanga-heds-camping-9-11-juni-2023/
LOCATION:Tånga Heds Camping\, Vårgårda\, Campingvägen 2\, Vårgårda\, Västragötaland\, 447 34\, Sverige
CATEGORIES:Klubbträff
ORGANIZER;CN="KABE Husbilsklubb - V%C3%A4stland":MAILTO:kenth.jo@telia.com
END:VEVENT
END:VCALENDAR