BEGIN:VCALENDAR
VERSION:2.0
PRODID:-//KABE Husbilsklubb - ECPv6.15.20//NONSGML v1.0//EN
CALSCALE:GREGORIAN
METHOD:PUBLISH
X-ORIGINAL-URL:https://kabe-husbilsklubb.se
X-WR-CALDESC:Händelser för KABE Husbilsklubb
REFRESH-INTERVAL;VALUE=DURATION:PT1H
X-Robots-Tag:noindex
X-PUBLISHED-TTL:PT1H
BEGIN:VTIMEZONE
TZID:Europe/Stockholm
BEGIN:DAYLIGHT
TZOFFSETFROM:+0100
TZOFFSETTO:+0200
TZNAME:CEST
DTSTART:20250330T010000
END:DAYLIGHT
BEGIN:STANDARD
TZOFFSETFROM:+0200
TZOFFSETTO:+0100
TZNAME:CET
DTSTART:20251026T010000
END:STANDARD
BEGIN:DAYLIGHT
TZOFFSETFROM:+0100
TZOFFSETTO:+0200
TZNAME:CEST
DTSTART:20260329T010000
END:DAYLIGHT
BEGIN:STANDARD
TZOFFSETFROM:+0200
TZOFFSETTO:+0100
TZNAME:CET
DTSTART:20261025T010000
END:STANDARD
BEGIN:DAYLIGHT
TZOFFSETFROM:+0100
TZOFFSETTO:+0200
TZNAME:CEST
DTSTART:20270328T010000
END:DAYLIGHT
BEGIN:STANDARD
TZOFFSETFROM:+0200
TZOFFSETTO:+0100
TZNAME:CET
DTSTART:20271031T010000
END:STANDARD
END:VTIMEZONE
BEGIN:VEVENT
DTSTART;TZID=Europe/Stockholm:20260514T120000
DTEND;TZID=Europe/Stockholm:20260517T120000
DTSTAMP:20260420T141517
CREATED:20260129T151744Z
LAST-MODIFIED:20260204T144729Z
UID:11866-1778760000-1779019200@kabe-husbilsklubb.se
SUMMARY:Inbjudan till Årsmöte 14/5-17/5 2026 i Oxelösund på Jogersö Eco Camp
DESCRIPTION:Mycket välkommen att anmäla ditt deltagande till Årsmötet 2026 under dagarna 14/5 – 17/5. I år samlas vi på Jogersö Eco Camp i Oxelösund.\nSjälva inbjudan når du via denna länk>>. (Observera att länken Kassören inte fungerar i mobilen! Du får göra ett eget manuellt mejl enligt nedan). \nAnmälan öppnas på lördag 14 februari kl. 09.00 och skall göras via mejl till kassor@kabehusbilsklubb.se. Observera att länken Kassören i PDF-inbjudan som anges ovan INTE fungerar i mobilen pga. programuppdateringsfel från Microsoft! Du måste nu själv manuellt skicka ett mejl till kassor@kabehusbilsklubb.se och skriva in så som bilden nedan visar.. \n \n  \n  \n  \n  \n  \n  \nDetta mejl kan du skapa direkt nu i mobilen och spara som utkast. Sen kan du enkelt ta fram det strax innan kl. 09.00 den 14/2. Efter du skickat in din anmälan får du en faktura via mejl som du sen inbetalar. Du betalar via Swish eller bankgiro. Betalar du fakturan via din bankapp i mobilen kan du skanna QR-koden på fakturan. \nHar du saker som du tycker kan vara priser i lotteriet så ta gärna med detta till årsmötet. Glöm inte att ta med cykel. Underlättar om du vill åka med till Fortet.
URL:https://kabe-husbilsklubb.se/event/inbjudan-till-arsmote-14-5-17-5-2026-i-oxelosund-pa-jogerso-eco-camp/
LOCATION:Jogersö Eco Camp\, Jogersövägen 15\, Oxelösund\, Sörmland\, 613 51\, Sweden
CATEGORIES:Årsmöte
END:VEVENT
END:VCALENDAR