BEGIN:VCALENDAR
VERSION:2.0
PRODID:-//KABE Husbilsklubb - ECPv6.15.20//NONSGML v1.0//EN
CALSCALE:GREGORIAN
METHOD:PUBLISH
X-WR-CALNAME:KABE Husbilsklubb
X-ORIGINAL-URL:https://kabe-husbilsklubb.se
X-WR-CALDESC:Händelser för KABE Husbilsklubb
REFRESH-INTERVAL;VALUE=DURATION:PT1H
X-Robots-Tag:noindex
X-PUBLISHED-TTL:PT1H
BEGIN:VTIMEZONE
TZID:Europe/Stockholm
BEGIN:DAYLIGHT
TZOFFSETFROM:+0100
TZOFFSETTO:+0200
TZNAME:CEST
DTSTART:20240331T010000
END:DAYLIGHT
BEGIN:STANDARD
TZOFFSETFROM:+0200
TZOFFSETTO:+0100
TZNAME:CET
DTSTART:20241027T010000
END:STANDARD
BEGIN:DAYLIGHT
TZOFFSETFROM:+0100
TZOFFSETTO:+0200
TZNAME:CEST
DTSTART:20250330T010000
END:DAYLIGHT
BEGIN:STANDARD
TZOFFSETFROM:+0200
TZOFFSETTO:+0100
TZNAME:CET
DTSTART:20251026T010000
END:STANDARD
BEGIN:DAYLIGHT
TZOFFSETFROM:+0100
TZOFFSETTO:+0200
TZNAME:CEST
DTSTART:20260329T010000
END:DAYLIGHT
BEGIN:STANDARD
TZOFFSETFROM:+0200
TZOFFSETTO:+0100
TZNAME:CET
DTSTART:20261025T010000
END:STANDARD
END:VTIMEZONE
BEGIN:VEVENT
DTSTART;TZID=Europe/Stockholm:20250529T140000
DTEND;TZID=Europe/Stockholm:20250601T120000
DTSTAMP:20260422T214154
CREATED:20250521T174610Z
LAST-MODIFIED:20250521T174610Z
UID:11415-1748527200-1748779200@kabe-husbilsklubb.se
SUMMARY:Inbjudan till Årsmötet på Ånnaboda 29/5–1/6 2025
DESCRIPTION:Du kommer vidare till inbjudan med anmälan via denna länk>>.
URL:https://kabe-husbilsklubb.se/event/inbjudan-till-arsmotet-pa-annaboda-29-5-1-6-2025/
LOCATION:First Camp Ånnaboda\, Ånnaboda 320\, Garphyttan\, Närke\, 719 41\, Sweden
CATEGORIES:Årsmöte
END:VEVENT
END:VCALENDAR